BEGIN:VCALENDAR
VERSION:2.0
PRODID:-//Heritage University - ECPv6.15.20//NONSGML v1.0//EN
CALSCALE:GREGORIAN
METHOD:PUBLISH
X-WR-CALNAME:Heritage University
X-ORIGINAL-URL:https://heritage.edu
X-WR-CALDESC:Events for Heritage University
REFRESH-INTERVAL;VALUE=DURATION:PT1H
X-Robots-Tag:noindex
X-PUBLISHED-TTL:PT1H
BEGIN:VTIMEZONE
TZID:America/Los_Angeles
BEGIN:DAYLIGHT
TZOFFSETFROM:-0800
TZOFFSETTO:-0700
TZNAME:PDT
DTSTART:20220313T100000
END:DAYLIGHT
BEGIN:STANDARD
TZOFFSETFROM:-0700
TZOFFSETTO:-0800
TZNAME:PST
DTSTART:20221106T090000
END:STANDARD
BEGIN:DAYLIGHT
TZOFFSETFROM:-0800
TZOFFSETTO:-0700
TZNAME:PDT
DTSTART:20230312T100000
END:DAYLIGHT
BEGIN:STANDARD
TZOFFSETFROM:-0700
TZOFFSETTO:-0800
TZNAME:PST
DTSTART:20231105T090000
END:STANDARD
BEGIN:DAYLIGHT
TZOFFSETFROM:-0800
TZOFFSETTO:-0700
TZNAME:PDT
DTSTART:20240310T100000
END:DAYLIGHT
BEGIN:STANDARD
TZOFFSETFROM:-0700
TZOFFSETTO:-0800
TZNAME:PST
DTSTART:20241103T090000
END:STANDARD
END:VTIMEZONE
BEGIN:VEVENT
DTSTART;TZID=America/Los_Angeles:20230328T120000
DTEND;TZID=America/Los_Angeles:20230328T130000
DTSTAMP:20260423T064645
CREATED:20230104T195217Z
LAST-MODIFIED:20230330T175257Z
UID:35186-1680004800-1680008400@heritage.edu
SUMMARY:Faculty Scholarship/Research Series with Ryan W. Booth\, Ph.D.
DESCRIPTION:Join us Tuesday\, March 28\, 2023 for “Major James Sanks Brisbin: Wordsmith & Warrior” with Ryan W. Booth\, Ph.D. \nIn Dr. Booth’s presentation\, he tells us Major James Sanks Brisbin served as an officer in the Civil War and later in the US West. A staunch abolitionist as well as a noted journalist\, Brisbin’s reflections offer a glimpse into the nineteenth century through his eyes and perhaps says something for our own time. \nThis presentation is part of the Faculty Scholarship/Research Series cosponsored by The Center for Intercultural Learning and Teaching and the Provost/Vice President of Academic Affairs at Heritage University. All events are held from 12:00 p.m. – 1:00 p.m. Links to the presentations will be made available via campus email prior to the event.
URL:https://heritage.edu/event/faculty-scholarship-research-series-with-ryan-w-booth-ph-d/
LOCATION:Virtual
CATEGORIES:Campus,Community
ATTACH;FMTTYPE=image/png:https://heritage.edu/wp-content/uploads/2018/05/tn-e1541606996720.png
ORGANIZER;CN="CILT":MAILTO:James_M@Heritage.edu
END:VEVENT
END:VCALENDAR