BEGIN:VCALENDAR
VERSION:2.0
PRODID:-//Heritage University - ECPv6.15.20//NONSGML v1.0//EN
CALSCALE:GREGORIAN
METHOD:PUBLISH
X-ORIGINAL-URL:https://heritage.edu
X-WR-CALDESC:Events for Heritage University
REFRESH-INTERVAL;VALUE=DURATION:PT1H
X-Robots-Tag:noindex
X-PUBLISHED-TTL:PT1H
BEGIN:VTIMEZONE
TZID:America/Los_Angeles
BEGIN:DAYLIGHT
TZOFFSETFROM:-0800
TZOFFSETTO:-0700
TZNAME:PDT
DTSTART:20230312T100000
END:DAYLIGHT
BEGIN:STANDARD
TZOFFSETFROM:-0700
TZOFFSETTO:-0800
TZNAME:PST
DTSTART:20231105T090000
END:STANDARD
BEGIN:DAYLIGHT
TZOFFSETFROM:-0800
TZOFFSETTO:-0700
TZNAME:PDT
DTSTART:20240310T100000
END:DAYLIGHT
BEGIN:STANDARD
TZOFFSETFROM:-0700
TZOFFSETTO:-0800
TZNAME:PST
DTSTART:20241103T090000
END:STANDARD
BEGIN:DAYLIGHT
TZOFFSETFROM:-0800
TZOFFSETTO:-0700
TZNAME:PDT
DTSTART:20250309T100000
END:DAYLIGHT
BEGIN:STANDARD
TZOFFSETFROM:-0700
TZOFFSETTO:-0800
TZNAME:PST
DTSTART:20251102T090000
END:STANDARD
END:VTIMEZONE
BEGIN:VEVENT
DTSTART;TZID=America/Los_Angeles:20241025T190000
DTEND;TZID=America/Los_Angeles:20241025T220000
DTSTAMP:20260421T012513
CREATED:20241008T160725Z
LAST-MODIFIED:20241028T155227Z
UID:42250-1729882800-1729893600@heritage.edu
SUMMARY:Monster Mash Bash
DESCRIPTION:Monster Mash Bash
URL:https://heritage.edu/event/monster-mash-bash/
LOCATION:Smith Family Hall\, 3240 Fort Rd\, Toppenish\, WA\, 98948\, United States
CATEGORIES:Campus,Community
ATTACH;FMTTYPE=image/png:https://heritage.edu/wp-content/uploads/2024/10/EV_Oct24_MonsterMashBash.png
END:VEVENT
END:VCALENDAR