BEGIN:VCALENDAR
VERSION:2.0
PRODID:-//Heritage University - ECPv6.15.20//NONSGML v1.0//EN
CALSCALE:GREGORIAN
METHOD:PUBLISH
X-ORIGINAL-URL:https://heritage.edu
X-WR-CALDESC:Events for Heritage University
REFRESH-INTERVAL;VALUE=DURATION:PT1H
X-Robots-Tag:noindex
X-PUBLISHED-TTL:PT1H
BEGIN:VTIMEZONE
TZID:America/Los_Angeles
BEGIN:DAYLIGHT
TZOFFSETFROM:-0800
TZOFFSETTO:-0700
TZNAME:PDT
DTSTART:20230312T100000
END:DAYLIGHT
BEGIN:STANDARD
TZOFFSETFROM:-0700
TZOFFSETTO:-0800
TZNAME:PST
DTSTART:20231105T090000
END:STANDARD
BEGIN:DAYLIGHT
TZOFFSETFROM:-0800
TZOFFSETTO:-0700
TZNAME:PDT
DTSTART:20240310T100000
END:DAYLIGHT
BEGIN:STANDARD
TZOFFSETFROM:-0700
TZOFFSETTO:-0800
TZNAME:PST
DTSTART:20241103T090000
END:STANDARD
BEGIN:DAYLIGHT
TZOFFSETFROM:-0800
TZOFFSETTO:-0700
TZNAME:PDT
DTSTART:20250309T100000
END:DAYLIGHT
BEGIN:STANDARD
TZOFFSETFROM:-0700
TZOFFSETTO:-0800
TZNAME:PST
DTSTART:20251102T090000
END:STANDARD
END:VTIMEZONE
BEGIN:VEVENT
DTSTART;TZID=America/Los_Angeles:20240709T160000
DTEND;TZID=America/Los_Angeles:20240709T180000
DTSTAMP:20260424T154948
CREATED:20240702T161457Z
LAST-MODIFIED:20240719T152514Z
UID:40975-1720540800-1720548000@heritage.edu
SUMMARY:Family Financial Aid Night - 7/9 Kennewick
DESCRIPTION:
URL:https://heritage.edu/event/family-financial-aid-night-7-9-kennewick/
LOCATION:Heritage University Tri-Cities\, 333 W. Canal Drive\, Kennewick\, WA\, 99336\, United States
CATEGORIES:Admissions,Campus
ATTACH;FMTTYPE=image/png:https://heritage.edu/wp-content/uploads/2024/07/EV_July2024_FFAN.png
ORGANIZER;CN="Heritage University Tri-Cities":MAILTO:tricities@heritage.edu
END:VEVENT
END:VCALENDAR