BEGIN:VCALENDAR
VERSION:2.0
PRODID:-//Heritage University - ECPv6.15.20//NONSGML v1.0//EN
CALSCALE:GREGORIAN
METHOD:PUBLISH
X-ORIGINAL-URL:https://heritage.edu
X-WR-CALDESC:Events for Heritage University
REFRESH-INTERVAL;VALUE=DURATION:PT1H
X-Robots-Tag:noindex
X-PUBLISHED-TTL:PT1H
BEGIN:VTIMEZONE
TZID:America/Los_Angeles
BEGIN:DAYLIGHT
TZOFFSETFROM:-0800
TZOFFSETTO:-0700
TZNAME:PDT
DTSTART:20210314T100000
END:DAYLIGHT
BEGIN:STANDARD
TZOFFSETFROM:-0700
TZOFFSETTO:-0800
TZNAME:PST
DTSTART:20211107T090000
END:STANDARD
BEGIN:DAYLIGHT
TZOFFSETFROM:-0800
TZOFFSETTO:-0700
TZNAME:PDT
DTSTART:20220313T100000
END:DAYLIGHT
BEGIN:STANDARD
TZOFFSETFROM:-0700
TZOFFSETTO:-0800
TZNAME:PST
DTSTART:20221106T090000
END:STANDARD
BEGIN:DAYLIGHT
TZOFFSETFROM:-0800
TZOFFSETTO:-0700
TZNAME:PDT
DTSTART:20230312T100000
END:DAYLIGHT
BEGIN:STANDARD
TZOFFSETFROM:-0700
TZOFFSETTO:-0800
TZNAME:PST
DTSTART:20231105T090000
END:STANDARD
END:VTIMEZONE
BEGIN:VEVENT
DTSTART;TZID=America/Los_Angeles:20220224T120000
DTEND;TZID=America/Los_Angeles:20220224T130000
DTSTAMP:20260419T060222
CREATED:20220212T233408Z
LAST-MODIFIED:20220308T162843Z
UID:31914-1645704000-1645707600@heritage.edu
SUMMARY:Black History Month: Opening Dialogues
DESCRIPTION:  \nA series of Heritage University events to recognize Black History will begin February 24\, 2022 at 12:00 p.m. with Black History Month: Opening Dialogues.\n\nThe first event is the “Re-Speak Project\,” which features members of the Heritage campus community reciting a speech that celebrates Black history. We will have details on future segments as they become available.\n\nPlease join us for Black History Month: Opening Dialogues on February 24. The link to this event on Zoom will be available in your Heritage email.
URL:https://heritage.edu/event/black-history-month-opening-dialogues/
LOCATION:Virtual
CATEGORIES:Campus,Community
ATTACH;FMTTYPE=image/png:https://heritage.edu/wp-content/uploads/2022/02/EV_Feb22_BHM-ReSpeak.png
END:VEVENT
END:VCALENDAR