BEGIN:VCALENDAR
VERSION:2.0
PRODID:-//Heritage University - ECPv6.15.20//NONSGML v1.0//EN
CALSCALE:GREGORIAN
METHOD:PUBLISH
X-ORIGINAL-URL:https://heritage.edu
X-WR-CALDESC:Events for Heritage University
REFRESH-INTERVAL;VALUE=DURATION:PT1H
X-Robots-Tag:noindex
X-PUBLISHED-TTL:PT1H
BEGIN:VTIMEZONE
TZID:America/Los_Angeles
BEGIN:DAYLIGHT
TZOFFSETFROM:-0800
TZOFFSETTO:-0700
TZNAME:PDT
DTSTART:20210314T100000
END:DAYLIGHT
BEGIN:STANDARD
TZOFFSETFROM:-0700
TZOFFSETTO:-0800
TZNAME:PST
DTSTART:20211107T090000
END:STANDARD
BEGIN:DAYLIGHT
TZOFFSETFROM:-0800
TZOFFSETTO:-0700
TZNAME:PDT
DTSTART:20220313T100000
END:DAYLIGHT
BEGIN:STANDARD
TZOFFSETFROM:-0700
TZOFFSETTO:-0800
TZNAME:PST
DTSTART:20221106T090000
END:STANDARD
BEGIN:DAYLIGHT
TZOFFSETFROM:-0800
TZOFFSETTO:-0700
TZNAME:PDT
DTSTART:20230312T100000
END:DAYLIGHT
BEGIN:STANDARD
TZOFFSETFROM:-0700
TZOFFSETTO:-0800
TZNAME:PST
DTSTART:20231105T090000
END:STANDARD
END:VTIMEZONE
BEGIN:VEVENT
DTSTART;TZID=America/Los_Angeles:20220302T120000
DTEND;TZID=America/Los_Angeles:20220302T130000
DTSTAMP:20260423T065611
CREATED:20220210T182308Z
LAST-MODIFIED:20220308T162805Z
UID:31855-1646222400-1646226000@heritage.edu
SUMMARY:Ash Wednesday Service
DESCRIPTION:  \nHeritage University students\, faculty and staff who observe Lent are invited to attend an Ash Wednesday service on March 2\, 2022 at noon in the Patricia Wade Temple Conference Room. \nThe Rev. Monsignor Robert Siler of the Diocese of Yakima will officiate the service\, which will feature the imposition of ashes and the Holy Eucharist.
URL:https://heritage.edu/event/ash-wednesday-service/
LOCATION:Patricia Wade Temple Conference Room\, 3240 Fort Rd\, Toppenish\, WA\, 98948\, United States
CATEGORIES:Campus,Community
ATTACH;FMTTYPE=image/png:https://heritage.edu/wp-content/uploads/2022/02/EV_March_2022_Ash-Wednesday-Service.png
END:VEVENT
END:VCALENDAR