BEGIN:VCALENDAR
VERSION:2.0
PRODID:-//Heritage University - ECPv6.15.20//NONSGML v1.0//EN
CALSCALE:GREGORIAN
METHOD:PUBLISH
X-WR-CALNAME:Heritage University
X-ORIGINAL-URL:https://heritage.edu
X-WR-CALDESC:Events for Heritage University
REFRESH-INTERVAL;VALUE=DURATION:PT1H
X-Robots-Tag:noindex
X-PUBLISHED-TTL:PT1H
BEGIN:VTIMEZONE
TZID:America/Los_Angeles
BEGIN:DAYLIGHT
TZOFFSETFROM:-0800
TZOFFSETTO:-0700
TZNAME:PDT
DTSTART:20240310T100000
END:DAYLIGHT
BEGIN:STANDARD
TZOFFSETFROM:-0700
TZOFFSETTO:-0800
TZNAME:PST
DTSTART:20241103T090000
END:STANDARD
BEGIN:DAYLIGHT
TZOFFSETFROM:-0800
TZOFFSETTO:-0700
TZNAME:PDT
DTSTART:20250309T100000
END:DAYLIGHT
BEGIN:STANDARD
TZOFFSETFROM:-0700
TZOFFSETTO:-0800
TZNAME:PST
DTSTART:20251102T090000
END:STANDARD
BEGIN:DAYLIGHT
TZOFFSETFROM:-0800
TZOFFSETTO:-0700
TZNAME:PDT
DTSTART:20260308T100000
END:DAYLIGHT
BEGIN:STANDARD
TZOFFSETFROM:-0700
TZOFFSETTO:-0800
TZNAME:PST
DTSTART:20261101T090000
END:STANDARD
END:VTIMEZONE
BEGIN:VEVENT
DTSTART;TZID=America/Los_Angeles:20250404T083000
DTEND;TZID=America/Los_Angeles:20250404T163000
DTSTAMP:20260422T104441
CREATED:20250312T175724Z
LAST-MODIFIED:20250411T184057Z
UID:43949-1743755400-1743784200@heritage.edu
SUMMARY:Honoring Undergraduate and Graduate Scholars Symposium (HUGSS)
DESCRIPTION:﻿\nHUGSS will be held in Smith Family Hall with oral presentations in Rau 1701
URL:https://heritage.edu/event/honoring-undergraduate-and-graduate-scholars-symposium/
LOCATION:Smith Family Hall\, 3240 Fort Rd\, Toppenish\, WA\, 98948\, United States
CATEGORIES:Campus,Community
ATTACH;FMTTYPE=image/jpeg:https://heritage.edu/wp-content/uploads/2025/03/EV_Apr2025_HUGSS.jpg
END:VEVENT
BEGIN:VEVENT
DTSTART;TZID=America/Los_Angeles:20250414T180000
DTEND;TZID=America/Los_Angeles:20250414T200000
DTSTAMP:20260422T104441
CREATED:20250404T213244Z
LAST-MODIFIED:20250502T213051Z
UID:44269-1744653600-1744660800@heritage.edu
SUMMARY:Hablando Claro Inmigración/Straight Talk on Immigration Part 3
DESCRIPTION:Hablando Claro Inmigración/Straight Talk on Immigration
URL:https://heritage.edu/event/hablando-claro-inmigracion-straight-talk-on-immigration-part-3/
LOCATION:Zoom
CATEGORIES:Campus,Community
ATTACH;FMTTYPE=image/png:https://heritage.edu/wp-content/uploads/2025/04/EV_April2025_Immigration3.png
END:VEVENT
BEGIN:VEVENT
DTSTART;VALUE=DATE:20250418
DTEND;VALUE=DATE:20250419
DTSTAMP:20260422T104441
CREATED:20250226T172312Z
LAST-MODIFIED:20250502T213255Z
UID:43851-1744934400-1745020799@heritage.edu
SUMMARY:Spring Renewal Day (Campus Closed)
DESCRIPTION:
URL:https://heritage.edu/event/spring-renewal-day-campus-closed-5/
CATEGORIES:Campus,Community
ATTACH;FMTTYPE=image/png:https://heritage.edu/wp-content/uploads/2018/05/tn-e1541606996720.png
END:VEVENT
BEGIN:VEVENT
DTSTART;TZID=America/Los_Angeles:20250419T110000
DTEND;TZID=America/Los_Angeles:20250419T170000
DTSTAMP:20260422T104441
CREATED:20250226T182348Z
LAST-MODIFIED:20250502T212912Z
UID:43859-1745060400-1745082000@heritage.edu
SUMMARY:All Nations Student Social Powwow
DESCRIPTION:
URL:https://heritage.edu/event/all-nations-student-social-powwow-2/
LOCATION:Heritage University
CATEGORIES:Campus,Community
ATTACH;FMTTYPE=image/jpeg:https://heritage.edu/wp-content/uploads/2025/04/EV_Apr2025_Powwwow.jpg
END:VEVENT
BEGIN:VEVENT
DTSTART;TZID=America/Los_Angeles:20250423T100000
DTEND;TZID=America/Los_Angeles:20250423T113000
DTSTAMP:20260422T104441
CREATED:20250326T210005Z
LAST-MODIFIED:20250502T212932Z
UID:44138-1745402400-1745407800@heritage.edu
SUMMARY:Seattle Shakespeare Company Presents Romeo & Juliet (for High Schools)
DESCRIPTION:Seattle Shakespeare Company Presents Romeo & Juliet
URL:https://heritage.edu/event/seattle-shakespeare-company-presents-romeo-juliet-for-high-schools/
LOCATION:Smith Family Hall\, 3240 Fort Rd\, Toppenish\, WA\, 98948\, United States
CATEGORIES:Community,Home Page Coming Up
ATTACH;FMTTYPE=image/jpeg:https://heritage.edu/wp-content/uploads/2025/03/EV_Apr2025_RomeoJuliet.jpg
END:VEVENT
BEGIN:VEVENT
DTSTART;TZID=America/Los_Angeles:20250423T130000
DTEND;TZID=America/Los_Angeles:20250423T143000
DTSTAMP:20260422T104441
CREATED:20250326T210120Z
LAST-MODIFIED:20250521T151252Z
UID:44141-1745413200-1745418600@heritage.edu
SUMMARY:Seattle Shakespeare Company Presents Romeo & Juliet (for HU Campus)
DESCRIPTION:Seattle Shakespeare Company Presents Romeo & Juliet
URL:https://heritage.edu/event/seattle-shakespeare-company-presents-romeo-juliet-for-hu-campus/
LOCATION:Smith Family Hall\, 3240 Fort Rd\, Toppenish\, WA\, 98948\, United States
CATEGORIES:Campus,Community
ATTACH;FMTTYPE=image/jpeg:https://heritage.edu/wp-content/uploads/2025/03/EV_Apr2025_RomeoJuliet.jpg
END:VEVENT
END:VCALENDAR