BEGIN:VCALENDAR
VERSION:2.0
PRODID:-//Heritage University - ECPv6.15.20//NONSGML v1.0//EN
CALSCALE:GREGORIAN
METHOD:PUBLISH
X-ORIGINAL-URL:https://heritage.edu
X-WR-CALDESC:Events for Heritage University
REFRESH-INTERVAL;VALUE=DURATION:PT1H
X-Robots-Tag:noindex
X-PUBLISHED-TTL:PT1H
BEGIN:VTIMEZONE
TZID:America/Los_Angeles
BEGIN:DAYLIGHT
TZOFFSETFROM:-0800
TZOFFSETTO:-0700
TZNAME:PDT
DTSTART:20240310T100000
END:DAYLIGHT
BEGIN:STANDARD
TZOFFSETFROM:-0700
TZOFFSETTO:-0800
TZNAME:PST
DTSTART:20241103T090000
END:STANDARD
BEGIN:DAYLIGHT
TZOFFSETFROM:-0800
TZOFFSETTO:-0700
TZNAME:PDT
DTSTART:20250309T100000
END:DAYLIGHT
BEGIN:STANDARD
TZOFFSETFROM:-0700
TZOFFSETTO:-0800
TZNAME:PST
DTSTART:20251102T090000
END:STANDARD
BEGIN:DAYLIGHT
TZOFFSETFROM:-0800
TZOFFSETTO:-0700
TZNAME:PDT
DTSTART:20260308T100000
END:DAYLIGHT
BEGIN:STANDARD
TZOFFSETFROM:-0700
TZOFFSETTO:-0800
TZNAME:PST
DTSTART:20261101T090000
END:STANDARD
END:VTIMEZONE
BEGIN:VEVENT
DTSTART;TZID=America/Los_Angeles:20250506T173000
DTEND;TZID=America/Los_Angeles:20250506T193000
DTSTAMP:20260422T105850
CREATED:20250327T215955Z
LAST-MODIFIED:20250521T151224Z
UID:44156-1746552600-1746559800@heritage.edu
SUMMARY:Toppenish Graduation Celebration
DESCRIPTION:Toppenish Graduation Celebration\, May 7\, 2024
URL:https://heritage.edu/event/toppenish-graduation-celebration/
LOCATION:Smith Family Hall\, 3240 Fort Rd\, Toppenish\, WA\, 98948\, United States
CATEGORIES:Campus,Community
ATTACH;FMTTYPE=image/jpeg:https://heritage.edu/wp-content/uploads/2025/03/HU-Graduation-Celebration-138-scaled.jpeg
ORGANIZER;CN="Alumni Connections":MAILTO:alumni@heritage.edu
END:VEVENT
BEGIN:VEVENT
DTSTART;TZID=America/Los_Angeles:20250507T173000
DTEND;TZID=America/Los_Angeles:20250507T193000
DTSTAMP:20260422T105850
CREATED:20250327T215422Z
LAST-MODIFIED:20250521T151204Z
UID:44150-1746639000-1746646200@heritage.edu
SUMMARY:Tri-Cities Graduation Celebration
DESCRIPTION:Tri-Cities Graduation Celebration\, Pasco Wash.\, May 8\, 2024
URL:https://heritage.edu/event/tri-cities-graduation-celebration/
LOCATION:Columbia Basin Courtyard\, 2600 N 20th Ave\, Pasco\, WA\, 99301\, United States
CATEGORIES:Campus,Community
ATTACH;FMTTYPE=image/jpeg:https://heritage.edu/wp-content/uploads/2025/03/2024-Tri-Cities-Graduation-Celebration-58.jpeg
ORGANIZER;CN="Alumni Connections":MAILTO:alumni@heritage.edu
END:VEVENT
BEGIN:VEVENT
DTSTART;TZID=America/Los_Angeles:20250510T100000
DTEND;TZID=America/Los_Angeles:20250510T130000
DTSTAMP:20260422T105850
CREATED:20250226T172631Z
LAST-MODIFIED:20250521T151140Z
UID:43853-1746871200-1746882000@heritage.edu
SUMMARY:43rd Annual Commencement
DESCRIPTION:
URL:https://heritage.edu/event/43rd-annual-commencement/
LOCATION:Yakima Valley Sundome
CATEGORIES:Campus,Community
ATTACH;FMTTYPE=image/png:https://heritage.edu/wp-content/uploads/2024/08/Wings_Summer2024_BoundlessDetermination_3.png
END:VEVENT
BEGIN:VEVENT
DTSTART;TZID=America/Los_Angeles:20250512T080000
DTEND;TZID=America/Los_Angeles:20250516T170000
DTSTAMP:20260422T105850
CREATED:20250226T175141Z
LAST-MODIFIED:20250521T150949Z
UID:43855-1747036800-1747414800@heritage.edu
SUMMARY:Finals Week
DESCRIPTION:
URL:https://heritage.edu/event/finals-week-5/
CATEGORIES:Campus,Community
ATTACH;FMTTYPE=image/jpeg:https://heritage.edu/wp-content/uploads/2018/11/students-studying-1.jpg
END:VEVENT
BEGIN:VEVENT
DTSTART;VALUE=DATE:20250526
DTEND;VALUE=DATE:20250527
DTSTAMP:20260422T105850
CREATED:20250411T231850Z
LAST-MODIFIED:20250530T204622Z
UID:44315-1748217600-1748303999@heritage.edu
SUMMARY:Memorial Day Holiday (Campus Closed)
DESCRIPTION:
URL:https://heritage.edu/event/memorial-day-holiday-campus-closed-3/
CATEGORIES:Campus,Community
ATTACH;FMTTYPE=image/png:https://heritage.edu/wp-content/uploads/2018/05/tn-e1541606996720.png
END:VEVENT
END:VCALENDAR