BEGIN:VCALENDAR
VERSION:2.0
PRODID:-//Heritage University - ECPv6.15.20//NONSGML v1.0//EN
CALSCALE:GREGORIAN
METHOD:PUBLISH
X-ORIGINAL-URL:https://heritage.edu
X-WR-CALDESC:Events for Heritage University
REFRESH-INTERVAL;VALUE=DURATION:PT1H
X-Robots-Tag:noindex
X-PUBLISHED-TTL:PT1H
BEGIN:VTIMEZONE
TZID:America/Los_Angeles
BEGIN:DAYLIGHT
TZOFFSETFROM:-0800
TZOFFSETTO:-0700
TZNAME:PDT
DTSTART:20240310T100000
END:DAYLIGHT
BEGIN:STANDARD
TZOFFSETFROM:-0700
TZOFFSETTO:-0800
TZNAME:PST
DTSTART:20241103T090000
END:STANDARD
BEGIN:DAYLIGHT
TZOFFSETFROM:-0800
TZOFFSETTO:-0700
TZNAME:PDT
DTSTART:20250309T100000
END:DAYLIGHT
BEGIN:STANDARD
TZOFFSETFROM:-0700
TZOFFSETTO:-0800
TZNAME:PST
DTSTART:20251102T090000
END:STANDARD
BEGIN:DAYLIGHT
TZOFFSETFROM:-0800
TZOFFSETTO:-0700
TZNAME:PDT
DTSTART:20260308T100000
END:DAYLIGHT
BEGIN:STANDARD
TZOFFSETFROM:-0700
TZOFFSETTO:-0800
TZNAME:PST
DTSTART:20261101T090000
END:STANDARD
END:VTIMEZONE
BEGIN:VEVENT
DTSTART;VALUE=DATE:20250811
DTEND;VALUE=DATE:20250812
DTSTAMP:20260422T220048
CREATED:20250708T154740Z
LAST-MODIFIED:20250827T222850Z
UID:45336-1754870400-1754956799@heritage.edu
SUMMARY:Classes Begin (Graduate)
DESCRIPTION:﻿﻿
URL:https://heritage.edu/event/classes-begin-graduate-6/
LOCATION:Heritage University
CATEGORIES:Campus,Community
ATTACH;FMTTYPE=image/jpeg:https://heritage.edu/wp-content/uploads/Images/BANNER_graduateadmissions3.jpg
END:VEVENT
BEGIN:VEVENT
DTSTART;VALUE=DATE:20250825
DTEND;VALUE=DATE:20250826
DTSTAMP:20260422T220048
CREATED:20250708T154135Z
LAST-MODIFIED:20250902T152211Z
UID:45334-1756080000-1756166399@heritage.edu
SUMMARY:Classes Begin (Undergraduate)
DESCRIPTION:
URL:https://heritage.edu/event/classes-begin-undergraduate-6/
LOCATION:Heritage University
CATEGORIES:Campus,Community
ATTACH;FMTTYPE=image/jpeg:https://heritage.edu/wp-content/uploads/2025/06/StudentMarketing-EW-069-min.jpg
END:VEVENT
END:VCALENDAR