BEGIN:VCALENDAR
VERSION:2.0
PRODID:-//Heritage University - ECPv6.15.20//NONSGML v1.0//EN
CALSCALE:GREGORIAN
METHOD:PUBLISH
X-ORIGINAL-URL:https://heritage.edu
X-WR-CALDESC:Events for Heritage University
REFRESH-INTERVAL;VALUE=DURATION:PT1H
X-Robots-Tag:noindex
X-PUBLISHED-TTL:PT1H
BEGIN:VTIMEZONE
TZID:America/Los_Angeles
BEGIN:DAYLIGHT
TZOFFSETFROM:-0800
TZOFFSETTO:-0700
TZNAME:PDT
DTSTART:20190310T100000
END:DAYLIGHT
BEGIN:STANDARD
TZOFFSETFROM:-0700
TZOFFSETTO:-0800
TZNAME:PST
DTSTART:20191103T090000
END:STANDARD
BEGIN:DAYLIGHT
TZOFFSETFROM:-0800
TZOFFSETTO:-0700
TZNAME:PDT
DTSTART:20200308T100000
END:DAYLIGHT
BEGIN:STANDARD
TZOFFSETFROM:-0700
TZOFFSETTO:-0800
TZNAME:PST
DTSTART:20201101T090000
END:STANDARD
BEGIN:DAYLIGHT
TZOFFSETFROM:-0800
TZOFFSETTO:-0700
TZNAME:PDT
DTSTART:20210314T100000
END:DAYLIGHT
BEGIN:STANDARD
TZOFFSETFROM:-0700
TZOFFSETTO:-0800
TZNAME:PST
DTSTART:20211107T090000
END:STANDARD
END:VTIMEZONE
BEGIN:VEVENT
DTSTART;TZID=America/Los_Angeles:20201105T130000
DTEND;TZID=America/Los_Angeles:20201105T140000
DTSTAMP:20260422T165742
CREATED:20201021T010650Z
LAST-MODIFIED:20210120T003527Z
UID:26609-1604581200-1604584800@heritage.edu
SUMMARY:Insights on Entrepreneurship\, Social Media Marketing and Creativity with Elena Hansen
DESCRIPTION:Please click this URL to join. \n\n\n\n\nhttps://heritage.zoom.us/j/93170726758?pwd=bDNCem8zL3phVkQ2Tmg5VUgwZzNxZz09 \nMeeting ID: 931 7072 6758 Passcode: 884018 \n\n\n\n\n 
URL:https://heritage.edu/event/insights-on-entrepreneurship-social-media-marketing-and-creativity-with-elena-hansen/
LOCATION:Virtual
CATEGORIES:Campus,Community
ATTACH;FMTTYPE=image/jpeg:https://heritage.edu/wp-content/uploads/2020/10/EV_Elena-Hansen-small.jpg
END:VEVENT
END:VCALENDAR