BEGIN:VCALENDAR
VERSION:2.0
PRODID:-//Heritage University - ECPv6.15.20//NONSGML v1.0//EN
CALSCALE:GREGORIAN
METHOD:PUBLISH
X-WR-CALNAME:Heritage University
X-ORIGINAL-URL:https://heritage.edu
X-WR-CALDESC:Events for Heritage University
REFRESH-INTERVAL;VALUE=DURATION:PT1H
X-Robots-Tag:noindex
X-PUBLISHED-TTL:PT1H
BEGIN:VTIMEZONE
TZID:America/Los_Angeles
BEGIN:DAYLIGHT
TZOFFSETFROM:-0800
TZOFFSETTO:-0700
TZNAME:PDT
DTSTART:20240310T100000
END:DAYLIGHT
BEGIN:STANDARD
TZOFFSETFROM:-0700
TZOFFSETTO:-0800
TZNAME:PST
DTSTART:20241103T090000
END:STANDARD
BEGIN:DAYLIGHT
TZOFFSETFROM:-0800
TZOFFSETTO:-0700
TZNAME:PDT
DTSTART:20250309T100000
END:DAYLIGHT
BEGIN:STANDARD
TZOFFSETFROM:-0700
TZOFFSETTO:-0800
TZNAME:PST
DTSTART:20251102T090000
END:STANDARD
BEGIN:DAYLIGHT
TZOFFSETFROM:-0800
TZOFFSETTO:-0700
TZNAME:PDT
DTSTART:20260308T100000
END:DAYLIGHT
BEGIN:STANDARD
TZOFFSETFROM:-0700
TZOFFSETTO:-0800
TZNAME:PST
DTSTART:20261101T090000
END:STANDARD
END:VTIMEZONE
BEGIN:VEVENT
DTSTART;TZID=America/Los_Angeles:20250423T100000
DTEND;TZID=America/Los_Angeles:20250423T113000
DTSTAMP:20260422T105910
CREATED:20250326T210005Z
LAST-MODIFIED:20250502T212932Z
UID:44138-1745402400-1745407800@heritage.edu
SUMMARY:Seattle Shakespeare Company Presents Romeo & Juliet (for High Schools)
DESCRIPTION:Seattle Shakespeare Company Presents Romeo & Juliet
URL:https://heritage.edu/event/seattle-shakespeare-company-presents-romeo-juliet-for-high-schools/
LOCATION:Smith Family Hall\, 3240 Fort Rd\, Toppenish\, WA\, 98948\, United States
CATEGORIES:Community,Home Page Coming Up
ATTACH;FMTTYPE=image/jpeg:https://heritage.edu/wp-content/uploads/2025/03/EV_Apr2025_RomeoJuliet.jpg
END:VEVENT
BEGIN:VEVENT
DTSTART;TZID=America/Los_Angeles:20250423T130000
DTEND;TZID=America/Los_Angeles:20250423T143000
DTSTAMP:20260422T105910
CREATED:20250326T210120Z
LAST-MODIFIED:20250521T151252Z
UID:44141-1745413200-1745418600@heritage.edu
SUMMARY:Seattle Shakespeare Company Presents Romeo & Juliet (for HU Campus)
DESCRIPTION:Seattle Shakespeare Company Presents Romeo & Juliet
URL:https://heritage.edu/event/seattle-shakespeare-company-presents-romeo-juliet-for-hu-campus/
LOCATION:Smith Family Hall\, 3240 Fort Rd\, Toppenish\, WA\, 98948\, United States
CATEGORIES:Campus,Community
ATTACH;FMTTYPE=image/jpeg:https://heritage.edu/wp-content/uploads/2025/03/EV_Apr2025_RomeoJuliet.jpg
END:VEVENT
END:VCALENDAR