BEGIN:VCALENDAR
VERSION:2.0
PRODID:-//Heritage University - ECPv6.15.20//NONSGML v1.0//EN
CALSCALE:GREGORIAN
METHOD:PUBLISH
X-ORIGINAL-URL:https://heritage.edu
X-WR-CALDESC:Events for Heritage University
REFRESH-INTERVAL;VALUE=DURATION:PT1H
X-Robots-Tag:noindex
X-PUBLISHED-TTL:PT1H
BEGIN:VTIMEZONE
TZID:America/Los_Angeles
BEGIN:DAYLIGHT
TZOFFSETFROM:-0800
TZOFFSETTO:-0700
TZNAME:PDT
DTSTART:20180311T100000
END:DAYLIGHT
BEGIN:STANDARD
TZOFFSETFROM:-0700
TZOFFSETTO:-0800
TZNAME:PST
DTSTART:20181104T090000
END:STANDARD
BEGIN:DAYLIGHT
TZOFFSETFROM:-0800
TZOFFSETTO:-0700
TZNAME:PDT
DTSTART:20190310T100000
END:DAYLIGHT
BEGIN:STANDARD
TZOFFSETFROM:-0700
TZOFFSETTO:-0800
TZNAME:PST
DTSTART:20191103T090000
END:STANDARD
BEGIN:DAYLIGHT
TZOFFSETFROM:-0800
TZOFFSETTO:-0700
TZNAME:PDT
DTSTART:20200308T100000
END:DAYLIGHT
BEGIN:STANDARD
TZOFFSETFROM:-0700
TZOFFSETTO:-0800
TZNAME:PST
DTSTART:20201101T090000
END:STANDARD
END:VTIMEZONE
BEGIN:VTIMEZONE
TZID:UTC
BEGIN:STANDARD
TZOFFSETFROM:+0000
TZOFFSETTO:+0000
TZNAME:UTC
DTSTART:20180101T000000
END:STANDARD
END:VTIMEZONE
BEGIN:VEVENT
DTSTART;TZID=America/Los_Angeles:20190228T120000
DTEND;TZID=America/Los_Angeles:20190228T130000
DTSTAMP:20260421T132639
CREATED:20190223T084852Z
LAST-MODIFIED:20190223T085433Z
UID:18402-1551355200-1551358800@heritage.edu
SUMMARY:KDChi Bake Sale
DESCRIPTION:
URL:https://heritage.edu/event/kdchi-bake-sale/
LOCATION:Donald K. North Library\, 3240 Fort Road\, Toppenish\, WA\, 98948\, United States
CATEGORIES:Greek Life,Student Life
ORGANIZER;CN="Kappa Delta Chi":MAILTO:betasigma.expansion@kappadeltachi.org
END:VEVENT
BEGIN:VEVENT
DTSTART;TZID=America/Los_Angeles:20190225T120000
DTEND;TZID=America/Los_Angeles:20190225T130000
DTSTAMP:20260421T132639
CREATED:20190223T090211Z
LAST-MODIFIED:20190301T015127Z
UID:18419-1551096000-1551099600@heritage.edu
SUMMARY:Breaking Down Barriers
DESCRIPTION:
URL:https://heritage.edu/event/breaking-down-barriers/
LOCATION:The Great Lawn\, 3240 Fort Road\, Toppenish\, WA\, 98948\, United States
CATEGORIES:Campus,Greek Life,Student Life
ATTACH;FMTTYPE=image/jpeg:https://heritage.edu/wp-content/uploads/Events/EV_022519BreakingDownBarrierscrop.jpg
ORGANIZER;CN="Lambda Theta Alpha":MAILTO:lta.cp.zi@gmail.com
END:VEVENT
BEGIN:VEVENT
DTSTART;TZID=America/Los_Angeles:20190219T120000
DTEND;TZID=America/Los_Angeles:20190219T130000
DTSTAMP:20260421T132639
CREATED:20190205T031623Z
LAST-MODIFIED:20190205T031623Z
UID:18209-1550577600-1550581200@heritage.edu
SUMMARY:GAO Krispy Kreme Fundraiser Pick-Up
DESCRIPTION:
URL:https://heritage.edu/event/gao-krispy-kreme-fundraiser-pick-up/
LOCATION:Donald K. North Library\, 3240 Fort Road\, Toppenish\, WA\, 98948\, United States
CATEGORIES:Campus,Greek Life,Student Life
ORGANIZER;CN="Gamma Alpha Omega Sorority":MAILTO:jimemezi2@heritage.edu
END:VEVENT
BEGIN:VEVENT
DTSTART;TZID=America/Los_Angeles:20190213T120000
DTEND;TZID=America/Los_Angeles:20190213T140000
DTSTAMP:20260421T132639
CREATED:20190208T010057Z
LAST-MODIFIED:20190208T010057Z
UID:18234-1550059200-1550066400@heritage.edu
SUMMARY:GAO Valentine Bouquet Pick-Up
DESCRIPTION:
URL:https://heritage.edu/event/gao-valentine-bouquet-pick-up/
LOCATION:Pinnell Family Foyer\, 3240 Fort Road
CATEGORIES:Campus,Greek Life,Student Life
ATTACH;FMTTYPE=image/jpeg:https://heritage.edu/wp-content/uploads/Events/EV_0219GAOValentineBouquetcrop.jpg
ORGANIZER;CN="Gamma Alpha Omega Sorority":MAILTO:jimemezi2@heritage.edu
END:VEVENT
BEGIN:VEVENT
DTSTART;TZID=America/Los_Angeles:20190207T113000
DTEND;TZID=America/Los_Angeles:20190207T130000
DTSTAMP:20260421T132639
CREATED:20190201T071205Z
LAST-MODIFIED:20190214T045825Z
UID:18144-1549539000-1549544400@heritage.edu
SUMMARY:HU Greeks Taco Fundraiser
DESCRIPTION:
URL:https://heritage.edu/event/hu-greeks-taco-fundraiser/
LOCATION:Patricia Wade Temple Conference Room\, 3240 Fort Rd\, Toppenish\, WA\, 98948\, United States
CATEGORIES:Campus,Greek Life,Student Life
ATTACH;FMTTYPE=image/jpeg:https://heritage.edu/wp-content/uploads/Events/EV_020719GreekTacocrop.jpg
ORGANIZER;CN="HU Greeks":MAILTO:Moreno_D@heritage.edu
END:VEVENT
BEGIN:VEVENT
DTSTART;TZID=America/Los_Angeles:20190205T183000
DTEND;TZID=America/Los_Angeles:20190205T203000
DTSTAMP:20260421T132639
CREATED:20190202T010946Z
LAST-MODIFIED:20190202T010946Z
UID:18160-1549391400-1549398600@heritage.edu
SUMMARY:Board Game Night
DESCRIPTION:
URL:https://heritage.edu/event/board-game-night/
LOCATION:Smith Family Hall 2386
CATEGORIES:Greek Life,Student Life
ORGANIZER;CN="Lambda Theta Alpha":MAILTO:lta.cp.zi@gmail.com
END:VEVENT
BEGIN:VEVENT
DTSTART;VALUE=DATE:20190205
DTEND;VALUE=DATE:20190212
DTSTAMP:20260421T132639
CREATED:20190208T002211Z
LAST-MODIFIED:20190208T010125Z
UID:18229-1549324800-1549929599@heritage.edu
SUMMARY:GAO Valentine Bouquet Sale
DESCRIPTION:valenva
URL:https://heritage.edu/event/gao-valentine-bouquet-sale/
LOCATION:WA
CATEGORIES:Greek Life,Student Life
ATTACH;FMTTYPE=image/jpeg:https://heritage.edu/wp-content/uploads/Events/EV_0219GAOValentineBouquetcrop.jpg
ORGANIZER;CN="Gamma Alpha Omega Sorority":MAILTO:jimemezi2@heritage.edu
END:VEVENT
BEGIN:VEVENT
DTSTART;VALUE=DATE:20190204
DTEND;VALUE=DATE:20190216
DTSTAMP:20260421T132639
CREATED:20190205T031452Z
LAST-MODIFIED:20190205T031634Z
UID:18205-1549238400-1550275199@heritage.edu
SUMMARY:GAO Krispy Kreme Fundraiser Presale
DESCRIPTION:
URL:https://heritage.edu/event/gao-krispy-kreme-fundraiser-presale/
LOCATION:WA
CATEGORIES:Campus,Greek Life,Student Life
ORGANIZER;CN="Gamma Alpha Omega Sorority":MAILTO:jimemezi2@heritage.edu
END:VEVENT
BEGIN:VEVENT
DTSTART;TZID=America/Los_Angeles:20190131T193000
DTEND;TZID=America/Los_Angeles:20190131T213000
DTSTAMP:20260421T132639
CREATED:20190130T051709Z
LAST-MODIFIED:20190130T051709Z
UID:18090-1548963000-1548970200@heritage.edu
SUMMARY:Gamma Alpha Omega
DESCRIPTION:
URL:https://heritage.edu/event/gamma-alpha-omega/
LOCATION:Smith Family Hall\, 3240 Fort Rd\, Toppenish\, WA\, 98948\, United States
CATEGORIES:Greek Life
ORGANIZER;CN="Gamma Alpha Omega Sorority":MAILTO:jimemezi2@heritage.edu
END:VEVENT
BEGIN:VEVENT
DTSTART;TZID=America/Los_Angeles:20190129T120000
DTEND;TZID=America/Los_Angeles:20190129T130000
DTSTAMP:20260421T132639
CREATED:20190124T011353Z
LAST-MODIFIED:20190124T011353Z
UID:17907-1548763200-1548766800@heritage.edu
SUMMARY:Sigma Lambda Beta Informational
DESCRIPTION:
URL:https://heritage.edu/event/sigma-lambda-beta-informational/
LOCATION:Petrie Hall 1113\, 3240 Fort Road\, Toppenish\, WA\, 98948\, United States
CATEGORIES:Greek Life,Student Life
ORGANIZER;CN="Sigma Lambda Beta":MAILTO:OchoaS@heritage.edu
END:VEVENT
BEGIN:VEVENT
DTSTART;TZID=America/Los_Angeles:20190128T120000
DTEND;TZID=America/Los_Angeles:20190128T140000
DTSTAMP:20260421T132639
CREATED:20190124T010914Z
LAST-MODIFIED:20190124T010914Z
UID:17903-1548676800-1548684000@heritage.edu
SUMMARY:Sigma Lambda Beta Lounge Kickback
DESCRIPTION:
URL:https://heritage.edu/event/sigma-lambda-beta-lounge-kickback/
LOCATION:Student Lounge\, 3240 Fort Road\, Toppenish\, WA\, 98948\, United States
CATEGORIES:Greek Life,Student Life
END:VEVENT
BEGIN:VEVENT
DTSTART;TZID=America/Los_Angeles:20190125T190000
DTEND;TZID=America/Los_Angeles:20190125T203000
DTSTAMP:20260421T132639
CREATED:20190119T052501Z
LAST-MODIFIED:20190119T052501Z
UID:17846-1548442800-1548448200@heritage.edu
SUMMARY:Lambda Alpha Theta - Family Informational
DESCRIPTION:
URL:https://heritage.edu/event/lambda-alpha-theta-family-informational/
LOCATION:Patricia Wade Temple Conference Room\, 3240 Fort Rd\, Toppenish\, WA\, 98948\, United States
CATEGORIES:Greek Life,Student Life
ORGANIZER;CN="Lambda Theta Alpha":MAILTO:lta.cp.zi@gmail.com
END:VEVENT
BEGIN:VEVENT
DTSTART;TZID=America/Los_Angeles:20190125T170000
DTEND;TZID=America/Los_Angeles:20190125T190000
DTSTAMP:20260421T132639
CREATED:20190109T035439Z
LAST-MODIFIED:20190124T013902Z
UID:17392-1548435600-1548442800@heritage.edu
SUMMARY:KDChi Penguin Night
DESCRIPTION:
URL:https://heritage.edu/event/kdchi-penguin-night/
LOCATION:Petrie Hall 1115/1117\, 3240 Fort Road\, Toppenish\, WA\, 98948\, United States
CATEGORIES:Greek Life,Student Life
ORGANIZER;CN="Kappa Delta Chi":MAILTO:betasigma.expansion@kappadeltachi.org
END:VEVENT
BEGIN:VEVENT
DTSTART;TZID=America/Los_Angeles:20190125T170000
DTEND;TZID=America/Los_Angeles:20190125T170000
DTSTAMP:20260421T132639
CREATED:20190124T010441Z
LAST-MODIFIED:20190124T010530Z
UID:17895-1548435600-1548435600@heritage.edu
SUMMARY:Sigma Lambda Beta BBQ/Informational
DESCRIPTION:
URL:https://heritage.edu/event/sigma-lamda-beta-bbq-informational/
LOCATION:Arts & Sciences Patio\, 3240 Fort Road\, Toppenish\, WA\, United States
CATEGORIES:Greek Life,Student Life
ORGANIZER;CN="Sigma Lambda Beta":MAILTO:OchoaS@heritage.edu
END:VEVENT
BEGIN:VEVENT
DTSTART;TZID=UTC:20190125T120000
DTEND;TZID=UTC:20190125T130000
DTSTAMP:20260421T132639
CREATED:20190109T081537Z
LAST-MODIFIED:20190109T081537Z
UID:17475-1548417600-1548421200@heritage.edu
SUMMARY:Omega Delta Phi Free Nachos
DESCRIPTION:
URL:https://heritage.edu/event/omega-delta-phi-free-nachos/
LOCATION:WA
CATEGORIES:Greek Life,Student Life
ATTACH;FMTTYPE=image/png:https://heritage.edu/wp-content/uploads/HumanResources/ODPHIRecruitSpring2019-e1546983746751.png
ORGANIZER;CN="Omega Delta Phi":MAILTO:CabreraJ1@Heritage.edu
END:VEVENT
BEGIN:VEVENT
DTSTART;TZID=America/Los_Angeles:20190124T120000
DTEND;TZID=America/Los_Angeles:20190124T130000
DTSTAMP:20260421T132639
CREATED:20190124T005958Z
LAST-MODIFIED:20190124T005958Z
UID:17891-1548331200-1548334800@heritage.edu
SUMMARY:Sigma Lambda Beta Free Hot Chocolate
DESCRIPTION:
URL:https://heritage.edu/event/sigma-lambda-beta-free-hot-chocolate/
LOCATION:Pinnell Family Foyer\, 3240 Fort Road
CATEGORIES:Greek Life,Student Life
ORGANIZER;CN="Sigma Lambda Beta":MAILTO:OchoaS@heritage.edu
END:VEVENT
BEGIN:VEVENT
DTSTART;TZID=America/Los_Angeles:20190124T120000
DTEND;TZID=America/Los_Angeles:20190124T130000
DTSTAMP:20260421T132639
CREATED:20190109T081405Z
LAST-MODIFIED:20190109T081405Z
UID:17471-1548331200-1548334800@heritage.edu
SUMMARY:Omega Delta Phi Informational
DESCRIPTION:
URL:https://heritage.edu/event/omega-delta-phi-informational-2/
LOCATION:WA
CATEGORIES:Greek Life,Student Life
ATTACH;FMTTYPE=image/png:https://heritage.edu/wp-content/uploads/HumanResources/ODPHIRecruitSpring2019-e1546983746751.png
ORGANIZER;CN="Omega Delta Phi":MAILTO:CabreraJ1@Heritage.edu
END:VEVENT
BEGIN:VEVENT
DTSTART;TZID=America/Los_Angeles:20190124T120000
DTEND;TZID=America/Los_Angeles:20190124T130000
DTSTAMP:20260421T132639
CREATED:20190109T035343Z
LAST-MODIFIED:20190109T035343Z
UID:17389-1548331200-1548334800@heritage.edu
SUMMARY:KDChi Informational
DESCRIPTION:
URL:https://heritage.edu/event/kdchi-informational-3/
LOCATION:WA
CATEGORIES:Greek Life,Student Life
ORGANIZER;CN="Kappa Delta Chi":MAILTO:betasigma.expansion@kappadeltachi.org
END:VEVENT
BEGIN:VEVENT
DTSTART;TZID=America/Los_Angeles:20190123T180000
DTEND;TZID=America/Los_Angeles:20190123T180000
DTSTAMP:20260421T132639
CREATED:20190124T005235Z
LAST-MODIFIED:20190124T005235Z
UID:17884-1548266400-1548266400@heritage.edu
SUMMARY:Sigma Lambda Beta Movie Night
DESCRIPTION:
URL:https://heritage.edu/event/sigma-lambda-beta-movie-night/
LOCATION:Smith Family Hall\, 3240 Fort Rd\, Toppenish\, WA\, 98948\, United States
CATEGORIES:Greek Life,Student Life
ORGANIZER;CN="Sigma Lambda Beta":MAILTO:OchoaS@heritage.edu
END:VEVENT
BEGIN:VEVENT
DTSTART;TZID=UTC:20190123T120000
DTEND;TZID=UTC:20190123T130000
DTSTAMP:20260421T132639
CREATED:20190109T081122Z
LAST-MODIFIED:20190109T081122Z
UID:17465-1548244800-1548248400@heritage.edu
SUMMARY:Omega Delta Phi Informational
DESCRIPTION:
URL:https://heritage.edu/event/omega-delta-phi-informational/
LOCATION:Petrie Hall 1120
CATEGORIES:Greek Life,Student Life
ATTACH;FMTTYPE=image/png:https://heritage.edu/wp-content/uploads/HumanResources/ODPHIRecruitSpring2019-e1546983746751.png
ORGANIZER;CN="Omega Delta Phi":MAILTO:CabreraJ1@Heritage.edu
END:VEVENT
BEGIN:VEVENT
DTSTART;TZID=America/Los_Angeles:20190123T120000
DTEND;TZID=America/Los_Angeles:20190123T130000
DTSTAMP:20260421T132639
CREATED:20190109T035213Z
LAST-MODIFIED:20190109T035213Z
UID:17386-1548244800-1548248400@heritage.edu
SUMMARY:KDChi Cookie Decorating
DESCRIPTION:
URL:https://heritage.edu/event/kdchi-cookie-decorating/
LOCATION:WA
CATEGORIES:Greek Life,Student Life
ORGANIZER;CN="Kappa Delta Chi":MAILTO:betasigma.expansion@kappadeltachi.org
END:VEVENT
BEGIN:VEVENT
DTSTART;TZID=America/Los_Angeles:20190122T200000
DTEND;TZID=America/Los_Angeles:20190122T230000
DTSTAMP:20260421T132639
CREATED:20190109T080830Z
LAST-MODIFIED:20190109T080830Z
UID:17453-1548187200-1548198000@heritage.edu
SUMMARY:Omega Delta Phi Wing Knight
DESCRIPTION:
URL:https://heritage.edu/event/omega-delta-phi-wing-knight/
LOCATION:Buffalo Wild Wings\, 2529 Valley Mall Blvd\, Union Gap\, WA\, 98903\, United States
CATEGORIES:Greek Life,Student Life
ATTACH;FMTTYPE=image/png:https://heritage.edu/wp-content/uploads/HumanResources/ODPHIRecruitSpring2019-e1546983746751.png
ORGANIZER;CN="Omega Delta Phi":MAILTO:CabreraJ1@Heritage.edu
END:VEVENT
BEGIN:VEVENT
DTSTART;TZID=America/Los_Angeles:20190118T200600
DTEND;TZID=America/Los_Angeles:20190118T220000
DTSTAMP:20260421T132639
CREATED:20190110T080137Z
LAST-MODIFIED:20190111T001726Z
UID:17529-1547841960-1547848800@heritage.edu
SUMMARY:Sigma Lambda Beta Probate
DESCRIPTION:
URL:https://heritage.edu/event/sigma-lambda-beta-probate/
LOCATION:WA
CATEGORIES:Greek Life,Student Life
ORGANIZER;CN="Sigma Lambda Beta":MAILTO:OchoaS@heritage.edu
END:VEVENT
BEGIN:VEVENT
DTSTART;TZID=UTC:20190118T180000
DTEND;TZID=UTC:20190118T200000
DTSTAMP:20260421T132639
CREATED:20190109T080005Z
LAST-MODIFIED:20190109T080005Z
UID:17447-1547834400-1547841600@heritage.edu
SUMMARY:Omega Delta Phi Study Session
DESCRIPTION:
URL:https://heritage.edu/event/omega-delta-phi-study-session/
LOCATION:WA
CATEGORIES:Greek Life,Student Life
ATTACH;FMTTYPE=image/png:https://heritage.edu/wp-content/uploads/HumanResources/ODPHIRecruitSpring2019-e1546983746751.png
ORGANIZER;CN="Omega Delta Phi":MAILTO:CabreraJ1@Heritage.edu
END:VEVENT
BEGIN:VEVENT
DTSTART;TZID=America/Los_Angeles:20190118T160000
DTEND;TZID=America/Los_Angeles:20190118T170000
DTSTAMP:20260421T132639
CREATED:20190109T035127Z
LAST-MODIFIED:20190109T035127Z
UID:17383-1547827200-1547830800@heritage.edu
SUMMARY:KDChi Informational
DESCRIPTION:
URL:https://heritage.edu/event/kdchi-informational-2/
LOCATION:Patricia Wade Temple Conference Room\, 3240 Fort Rd\, Toppenish\, WA\, 98948\, United States
CATEGORIES:Greek Life,Student Life
ORGANIZER;CN="Kappa Delta Chi":MAILTO:betasigma.expansion@kappadeltachi.org
END:VEVENT
BEGIN:VEVENT
DTSTART;TZID=America/Los_Angeles:20190117T120000
DTEND;TZID=America/Los_Angeles:20190117T130000
DTSTAMP:20260421T132639
CREATED:20190109T075808Z
LAST-MODIFIED:20190109T075808Z
UID:17443-1547726400-1547730000@heritage.edu
SUMMARY:Omega Delta Phi Tabling
DESCRIPTION:
URL:https://heritage.edu/event/omega-delta-phi-tabling-3/
LOCATION:Pinnell Family Foyer\, 3240 Fort Road
CATEGORIES:Greek Life,Student Life
ATTACH;FMTTYPE=image/png:https://heritage.edu/wp-content/uploads/HumanResources/ODPHIRecruitSpring2019-e1546983746751.png
ORGANIZER;CN="Omega Delta Phi":MAILTO:CabreraJ1@Heritage.edu
END:VEVENT
BEGIN:VEVENT
DTSTART;TZID=UTC:20190116T200000
DTEND;TZID=UTC:20190116T220000
DTSTAMP:20260421T132639
CREATED:20190109T062159Z
LAST-MODIFIED:20190109T062159Z
UID:17416-1547668800-1547676000@heritage.edu
SUMMARY:Omega Delta Phi Game Knight
DESCRIPTION:
URL:https://heritage.edu/event/omega-delta-phi-game-knight/
LOCATION:WA
CATEGORIES:Greek Life,Student Life
ATTACH;FMTTYPE=image/png:https://heritage.edu/wp-content/uploads/HumanResources/ODPHIRecruitSpring2019-e1546983746751.png
END:VEVENT
BEGIN:VEVENT
DTSTART;TZID=America/Los_Angeles:20190116T160000
DTEND;TZID=America/Los_Angeles:20190116T180000
DTSTAMP:20260421T132639
CREATED:20190109T034939Z
LAST-MODIFIED:20190109T034939Z
UID:17379-1547654400-1547661600@heritage.edu
SUMMARY:KDChi Let It Snow
DESCRIPTION:
URL:https://heritage.edu/event/kdchi-let-it-snow/
LOCATION:Smith Family Hall 2388\, 3240 Fort Rd\, Toppenish\, WA\, 98948\, United States
CATEGORIES:Greek Life,Student Life
ORGANIZER;CN="Kappa Delta Chi":MAILTO:betasigma.expansion@kappadeltachi.org
END:VEVENT
BEGIN:VEVENT
DTSTART;TZID=America/Los_Angeles:20190116T120000
DTEND;TZID=America/Los_Angeles:20190116T130000
DTSTAMP:20260421T132639
CREATED:20190109T062014Z
LAST-MODIFIED:20190109T062014Z
UID:17413-1547640000-1547643600@heritage.edu
SUMMARY:Omega Delta Phi Flag Football
DESCRIPTION:
URL:https://heritage.edu/event/omega-delta-phi-flag-football/
LOCATION:WA
CATEGORIES:Greek Life,Student Life
ATTACH;FMTTYPE=image/png:https://heritage.edu/wp-content/uploads/HumanResources/ODPHIRecruitSpring2019-e1546983746751.png
END:VEVENT
BEGIN:VEVENT
DTSTART;TZID=America/Los_Angeles:20190115T120000
DTEND;TZID=America/Los_Angeles:20190115T130000
DTSTAMP:20260421T132639
CREATED:20190110T080030Z
LAST-MODIFIED:20190116T063638Z
UID:17523-1547553600-1547557200@heritage.edu
SUMMARY:Sigma Lambda Beta Churro Sale
DESCRIPTION:
URL:https://heritage.edu/event/sigma-lambda-beta-churro-sale/
LOCATION:Donald K. North Library\, 3240 Fort Road\, Toppenish\, WA\, 98948\, United States
CATEGORIES:Greek Life,Student Life
ATTACH;FMTTYPE=image/jpeg:https://heritage.edu/wp-content/uploads/Events/EV_011519SIgmaLambdaBetaChurroSalecrop.jpg
ORGANIZER;CN="Sigma Lambda Beta":MAILTO:OchoaS@heritage.edu
END:VEVENT
END:VCALENDAR