BEGIN:VCALENDAR
VERSION:2.0
PRODID:-//Heritage University - ECPv6.15.20//NONSGML v1.0//EN
CALSCALE:GREGORIAN
METHOD:PUBLISH
X-ORIGINAL-URL:https://heritage.edu
X-WR-CALDESC:Events for Heritage University
REFRESH-INTERVAL;VALUE=DURATION:PT1H
X-Robots-Tag:noindex
X-PUBLISHED-TTL:PT1H
BEGIN:VTIMEZONE
TZID:America/Los_Angeles
BEGIN:DAYLIGHT
TZOFFSETFROM:-0800
TZOFFSETTO:-0700
TZNAME:PDT
DTSTART:20170312T100000
END:DAYLIGHT
BEGIN:STANDARD
TZOFFSETFROM:-0700
TZOFFSETTO:-0800
TZNAME:PST
DTSTART:20171105T090000
END:STANDARD
BEGIN:DAYLIGHT
TZOFFSETFROM:-0800
TZOFFSETTO:-0700
TZNAME:PDT
DTSTART:20180311T100000
END:DAYLIGHT
BEGIN:STANDARD
TZOFFSETFROM:-0700
TZOFFSETTO:-0800
TZNAME:PST
DTSTART:20181104T090000
END:STANDARD
BEGIN:DAYLIGHT
TZOFFSETFROM:-0800
TZOFFSETTO:-0700
TZNAME:PDT
DTSTART:20190310T100000
END:DAYLIGHT
BEGIN:STANDARD
TZOFFSETFROM:-0700
TZOFFSETTO:-0800
TZNAME:PST
DTSTART:20191103T090000
END:STANDARD
BEGIN:DAYLIGHT
TZOFFSETFROM:-0800
TZOFFSETTO:-0700
TZNAME:PDT
DTSTART:20200308T100000
END:DAYLIGHT
BEGIN:STANDARD
TZOFFSETFROM:-0700
TZOFFSETTO:-0800
TZNAME:PST
DTSTART:20201101T090000
END:STANDARD
END:VTIMEZONE
BEGIN:VTIMEZONE
TZID:UTC
BEGIN:STANDARD
TZOFFSETFROM:+0000
TZOFFSETTO:+0000
TZNAME:UTC
DTSTART:20170101T000000
END:STANDARD
END:VTIMEZONE
BEGIN:VEVENT
DTSTART;TZID=America/Los_Angeles:20181025T170000
DTEND;TZID=America/Los_Angeles:20181025T210000
DTSTAMP:20260425T033521
CREATED:20181026T224650Z
LAST-MODIFIED:20181026T224650Z
UID:16168-1540486800-1540501200@heritage.edu
SUMMARY:Lambda Theta Alpha Open Study Tables
DESCRIPTION:
URL:https://heritage.edu/event/lambda-theta-alpha-open-study-tables-9/
LOCATION:Donald K. North Library\, 3240 Fort Road\, Toppenish\, WA\, 98948\, United States
CATEGORIES:Greek Life
ORGANIZER;CN="Lambda Theta Alpha":MAILTO:lta.cp.zi@gmail.com
END:VEVENT
BEGIN:VEVENT
DTSTART;TZID=America/Los_Angeles:20181026T200000
DTEND;TZID=America/Los_Angeles:20181026T230000
DTSTAMP:20260425T033521
CREATED:20181019T021259Z
LAST-MODIFIED:20181029T222814Z
UID:16009-1540584000-1540594800@heritage.edu
SUMMARY:Gamma Alpha Omega Founding Line
DESCRIPTION:
URL:https://heritage.edu/event/gamma-alpha-omega-founding-line/
LOCATION:Smith Family Hall\, 3240 Fort Rd\, Toppenish\, WA\, 98948\, United States
CATEGORIES:Greek Life,Student Life
ATTACH;FMTTYPE=image/jpeg:https://heritage.edu/wp-content/uploads/2018/10/EV_102618GAONewMemberPresentationFoundingLine.jpg
ORGANIZER;CN="Gamma Alpha Omega Sorority":MAILTO:jimemezi2@heritage.edu
END:VEVENT
BEGIN:VEVENT
DTSTART;VALUE=DATE:20181029
DTEND;VALUE=DATE:20181103
DTSTAMP:20260425T033521
CREATED:20181026T052819Z
LAST-MODIFIED:20181029T234931Z
UID:16117-1540771200-1541203199@heritage.edu
SUMMARY:Day of the Dead Celebration
DESCRIPTION:
URL:https://heritage.edu/event/day-of-the-dead-celebration/
LOCATION:Eagle’s Café
CATEGORIES:Campus,Greek Life,Student Life
ATTACH;FMTTYPE=image/jpeg:https://heritage.edu/wp-content/uploads/2018/10/EV_102918dayofthedead.jpg
ORGANIZER;CN="Sigma Lambda Beta":MAILTO:OchoaS@heritage.edu
END:VEVENT
BEGIN:VEVENT
DTSTART;TZID=UTC:20181030T160000
DTEND;TZID=UTC:20181030T170000
DTSTAMP:20260425T033521
CREATED:20180927T050621Z
LAST-MODIFIED:20180927T050621Z
UID:15614-1540915200-1540918800@heritage.edu
SUMMARY:GAO IG Open Study Tables
DESCRIPTION:
URL:https://heritage.edu/event/gao-ig-open-study-tables-5/
LOCATION:Barnhill Fireside Room\, 3240 Fort Rd\, Toppenish\, WA\, 98948\, United States
CATEGORIES:Greek Life,Student Life
ORGANIZER;CN="Gamma Alpha Omega Sorority":MAILTO:jimemezi2@heritage.edu
END:VEVENT
BEGIN:VEVENT
DTSTART;TZID=America/Los_Angeles:20181030T160000
DTEND;TZID=America/Los_Angeles:20181030T200000
DTSTAMP:20260425T033521
CREATED:20181026T224755Z
LAST-MODIFIED:20181026T224755Z
UID:16171-1540915200-1540929600@heritage.edu
SUMMARY:Lambda Theta Alpha Open Study Tables
DESCRIPTION:
URL:https://heritage.edu/event/lambda-theta-alpha-open-study-tables-10/
LOCATION:Donald K. North Library\, 3240 Fort Road\, Toppenish\, WA\, 98948\, United States
CATEGORIES:Greek Life
ORGANIZER;CN="Lambda Theta Alpha":MAILTO:lta.cp.zi@gmail.com
END:VEVENT
BEGIN:VEVENT
DTSTART;TZID=America/Los_Angeles:20181101T180000
DTEND;TZID=America/Los_Angeles:20181101T210000
DTSTAMP:20260425T033521
CREATED:20181027T041820Z
LAST-MODIFIED:20181103T012602Z
UID:16198-1541095200-1541106000@heritage.edu
SUMMARY:Under the Moon
DESCRIPTION:
URL:https://heritage.edu/event/under-the-moon/
LOCATION:Smith Family Hall\, 3240 Fort Rd\, Toppenish\, WA\, 98948\, United States
CATEGORIES:Greek Life,Student Life
ATTACH;FMTTYPE=image/jpeg:https://heritage.edu/wp-content/uploads/2018/10/EV_110118UNDERTHEMOONlogo.jpg
ORGANIZER;CN="Lambda Theta Alpha":MAILTO:lta.cp.zi@gmail.com
END:VEVENT
BEGIN:VEVENT
DTSTART;TZID=America/Los_Angeles:20181102T143000
DTEND;TZID=America/Los_Angeles:20181102T163000
DTSTAMP:20260425T033521
CREATED:20181026T052948Z
LAST-MODIFIED:20181106T052227Z
UID:16121-1541169000-1541176200@heritage.edu
SUMMARY:ELC Cookie Decorating
DESCRIPTION:
URL:https://heritage.edu/event/elc-cookie-decorating/
LOCATION:WA
CATEGORIES:Campus,Greek Life,Student Life
ATTACH;FMTTYPE=image/jpeg:https://heritage.edu/wp-content/uploads/2018/10/EV_102918dayofthedead.jpg
ORGANIZER;CN="Sigma Lambda Beta":MAILTO:OchoaS@heritage.edu
END:VEVENT
BEGIN:VEVENT
DTSTART;TZID=America/Los_Angeles:20181106T160000
DTEND;TZID=America/Los_Angeles:20181106T170000
DTSTAMP:20260425T033521
CREATED:20180927T050858Z
LAST-MODIFIED:20180927T050910Z
UID:15619-1541520000-1541523600@heritage.edu
SUMMARY:GAO IG Open Study Tables
DESCRIPTION:
URL:https://heritage.edu/event/gao-ig-open-study-tables-6/
LOCATION:Barnhill Fireside Room\, 3240 Fort Rd\, Toppenish\, WA\, 98948\, United States
CATEGORIES:Greek Life,Student Life
ORGANIZER;CN="Gamma Alpha Omega Sorority":MAILTO:jimemezi2@heritage.edu
END:VEVENT
BEGIN:VEVENT
DTSTART;TZID=America/Los_Angeles:20181106T160000
DTEND;TZID=America/Los_Angeles:20181106T200000
DTSTAMP:20260425T033521
CREATED:20181026T224938Z
LAST-MODIFIED:20181026T224938Z
UID:16177-1541520000-1541534400@heritage.edu
SUMMARY:Lambda Theta Alpha Open Study Tables
DESCRIPTION:
URL:https://heritage.edu/event/lambda-theta-alpha-open-study-tables-12/
LOCATION:Donald K. North Library\, 3240 Fort Road\, Toppenish\, WA\, 98948\, United States
CATEGORIES:Greek Life
ORGANIZER;CN="Lambda Theta Alpha":MAILTO:lta.cp.zi@gmail.com
END:VEVENT
BEGIN:VEVENT
DTSTART;TZID=America/Los_Angeles:20181108T120000
DTEND;TZID=America/Los_Angeles:20181108T130000
DTSTAMP:20260425T033521
CREATED:20181103T055450Z
LAST-MODIFIED:20181113T233056Z
UID:16418-1541678400-1541682000@heritage.edu
SUMMARY:Mustache Movember Tabling
DESCRIPTION:
URL:https://heritage.edu/event/mustache-movember-tabling/
LOCATION:WA
CATEGORIES:Campus,Greek Life,Student Life
ATTACH;FMTTYPE=image/jpeg:https://heritage.edu/wp-content/uploads/2018/11/EV_1118Movemberlogo.jpg
ORGANIZER;CN="Sigma Lambda Beta":MAILTO:OchoaS@heritage.edu
END:VEVENT
BEGIN:VEVENT
DTSTART;TZID=America/Los_Angeles:20181108T170000
DTEND;TZID=America/Los_Angeles:20181108T210000
DTSTAMP:20260425T033521
CREATED:20181026T225028Z
LAST-MODIFIED:20181026T225028Z
UID:16180-1541696400-1541710800@heritage.edu
SUMMARY:Lambda Theta Alpha Open Study Tables
DESCRIPTION:
URL:https://heritage.edu/event/lambda-theta-alpha-open-study-tables-13/
LOCATION:Donald K. North Library\, 3240 Fort Road\, Toppenish\, WA\, 98948\, United States
CATEGORIES:Greek Life
ORGANIZER;CN="Lambda Theta Alpha":MAILTO:lta.cp.zi@gmail.com
END:VEVENT
BEGIN:VEVENT
DTSTART;TZID=America/Los_Angeles:20181113T160000
DTEND;TZID=America/Los_Angeles:20181113T170000
DTSTAMP:20260425T033521
CREATED:20180927T050947Z
LAST-MODIFIED:20180927T050947Z
UID:15622-1542124800-1542128400@heritage.edu
SUMMARY:GAO IG Open Study Tables
DESCRIPTION:
URL:https://heritage.edu/event/gao-ig-open-study-tables-7/
LOCATION:Barnhill Fireside Room\, 3240 Fort Rd\, Toppenish\, WA\, 98948\, United States
CATEGORIES:Greek Life,Student Life
ORGANIZER;CN="Gamma Alpha Omega Sorority":MAILTO:jimemezi2@heritage.edu
END:VEVENT
BEGIN:VEVENT
DTSTART;TZID=America/Los_Angeles:20181113T160000
DTEND;TZID=America/Los_Angeles:20181113T200000
DTSTAMP:20260425T033521
CREATED:20181026T225123Z
LAST-MODIFIED:20181026T225123Z
UID:16183-1542124800-1542139200@heritage.edu
SUMMARY:Lambda Theta Alpha Open Study Tables
DESCRIPTION:
URL:https://heritage.edu/event/lambda-theta-alpha-open-study-tables-14/
LOCATION:Donald K. North Library\, 3240 Fort Road\, Toppenish\, WA\, 98948\, United States
CATEGORIES:Greek Life
ORGANIZER;CN="Lambda Theta Alpha":MAILTO:lta.cp.zi@gmail.com
END:VEVENT
BEGIN:VEVENT
DTSTART;TZID=America/Los_Angeles:20181115T120000
DTEND;TZID=America/Los_Angeles:20181115T130000
DTSTAMP:20260425T033521
CREATED:20181103T060213Z
LAST-MODIFIED:20181117T040755Z
UID:16437-1542283200-1542286800@heritage.edu
SUMMARY:Mustache Movember: Farm Workers Nutritional Presentation
DESCRIPTION:
URL:https://heritage.edu/event/mustache-movember-farm-workers-nutritional-presentation/
LOCATION:Patricia Wade Temple Conference Room\, 3240 Fort Rd\, Toppenish\, WA\, 98948\, United States
CATEGORIES:Greek Life,Student Life
ATTACH;FMTTYPE=image/jpeg:https://heritage.edu/wp-content/uploads/2018/11/EV_1118Movemberlogo.jpg
ORGANIZER;CN="Sigma Lambda Beta":MAILTO:OchoaS@heritage.edu
END:VEVENT
BEGIN:VEVENT
DTSTART;TZID=America/Los_Angeles:20181115T170000
DTEND;TZID=America/Los_Angeles:20181115T210000
DTSTAMP:20260425T033521
CREATED:20181026T225207Z
LAST-MODIFIED:20181026T225207Z
UID:16186-1542301200-1542315600@heritage.edu
SUMMARY:Lambda Theta Alpha Open Study Tables
DESCRIPTION:
URL:https://heritage.edu/event/lambda-theta-alpha-open-study-tables-15/
LOCATION:Donald K. North Library\, 3240 Fort Road\, Toppenish\, WA\, 98948\, United States
CATEGORIES:Greek Life
ORGANIZER;CN="Lambda Theta Alpha":MAILTO:lta.cp.zi@gmail.com
END:VEVENT
BEGIN:VEVENT
DTSTART;TZID=America/Los_Angeles:20181116T130000
DTEND;TZID=America/Los_Angeles:20181116T170000
DTSTAMP:20260425T033521
CREATED:20181107T062829Z
LAST-MODIFIED:20181107T062910Z
UID:16562-1542373200-1542387600@heritage.edu
SUMMARY:Volunteers Needed - Miss Silver Rose 2018
DESCRIPTION:
URL:https://heritage.edu/event/volunteers-needed-miss-silver-rose-2018/
LOCATION:Smith Family Hall\, 3240 Fort Rd\, Toppenish\, WA\, 98948\, United States
CATEGORIES:Greek Life,Student Life
ATTACH;FMTTYPE=image/jpeg:https://heritage.edu/wp-content/uploads/2018/11/EV_111618VolunteersMSR.jpg
ORGANIZER;CN="Omega Delta Phi":MAILTO:CabreraJ1@Heritage.edu
END:VEVENT
BEGIN:VEVENT
DTSTART;TZID=America/Los_Angeles:20181116T190000
DTEND;TZID=America/Los_Angeles:20181116T220000
DTSTAMP:20260425T033521
CREATED:20181107T063139Z
LAST-MODIFIED:20181120T005125Z
UID:16566-1542394800-1542405600@heritage.edu
SUMMARY:Miss Silver Rose 2018
DESCRIPTION:
URL:https://heritage.edu/event/miss-silver-rose-2018/
LOCATION:Smith Family Hall\, 3240 Fort Rd\, Toppenish\, WA\, 98948\, United States
CATEGORIES:Greek Life,Student Life
ATTACH;FMTTYPE=image/jpeg:https://heritage.edu/wp-content/uploads/2018/11/EV_111618MissSilverRoselogo.jpg
ORGANIZER;CN="Omega Delta Phi":MAILTO:CabreraJ1@Heritage.edu
END:VEVENT
BEGIN:VEVENT
DTSTART;TZID=America/Los_Angeles:20181119T120000
DTEND;TZID=America/Los_Angeles:20181119T130000
DTSTAMP:20260425T033521
CREATED:20181103T060020Z
LAST-MODIFIED:20181120T061427Z
UID:16432-1542628800-1542632400@heritage.edu
SUMMARY:Movember Spa Day
DESCRIPTION:
URL:https://heritage.edu/event/movember-spa-day/
LOCATION:Smith Family Hall 2388\, 3240 Fort Rd\, Toppenish\, WA\, 98948\, United States
CATEGORIES:Greek Life,Student Life
ATTACH;FMTTYPE=image/jpeg:https://heritage.edu/wp-content/uploads/2018/11/EV_1118Movemberlogo.jpg
ORGANIZER;CN="Sigma Lambda Beta":MAILTO:OchoaS@heritage.edu
END:VEVENT
BEGIN:VEVENT
DTSTART;TZID=UTC:20181120T160000
DTEND;TZID=UTC:20181120T170000
DTSTAMP:20260425T033521
CREATED:20180927T051017Z
LAST-MODIFIED:20180927T051017Z
UID:15625-1542729600-1542733200@heritage.edu
SUMMARY:GAO IG Open Study Tables
DESCRIPTION:
URL:https://heritage.edu/event/gao-ig-open-study-tables-8/
LOCATION:Barnhill Fireside Room\, 3240 Fort Rd\, Toppenish\, WA\, 98948\, United States
CATEGORIES:Greek Life,Student Life
ORGANIZER;CN="Gamma Alpha Omega Sorority":MAILTO:jimemezi2@heritage.edu
END:VEVENT
BEGIN:VEVENT
DTSTART;TZID=America/Los_Angeles:20181120T160000
DTEND;TZID=America/Los_Angeles:20181120T200000
DTSTAMP:20260425T033521
CREATED:20181026T225246Z
LAST-MODIFIED:20181026T225246Z
UID:16189-1542729600-1542744000@heritage.edu
SUMMARY:Lambda Theta Alpha Open Study Tables
DESCRIPTION:
URL:https://heritage.edu/event/lambda-theta-alpha-open-study-tables-16/
LOCATION:Donald K. North Library\, 3240 Fort Road\, Toppenish\, WA\, 98948\, United States
CATEGORIES:Greek Life
ORGANIZER;CN="Lambda Theta Alpha":MAILTO:lta.cp.zi@gmail.com
END:VEVENT
BEGIN:VEVENT
DTSTART;TZID=America/Los_Angeles:20181121T120000
DTEND;TZID=America/Los_Angeles:20181121T130000
DTSTAMP:20260425T033521
CREATED:20181103T055624Z
LAST-MODIFIED:20181127T070616Z
UID:16425-1542801600-1542805200@heritage.edu
SUMMARY:Mustache Movember Tabling
DESCRIPTION:
URL:https://heritage.edu/event/mustache-movember-tabling-2/
LOCATION:WA
CATEGORIES:Campus,Greek Life,Student Life
ATTACH;FMTTYPE=image/jpeg:https://heritage.edu/wp-content/uploads/2018/11/EV_1118Movemberlogo.jpg
ORGANIZER;CN="Sigma Lambda Beta":MAILTO:OchoaS@heritage.edu
END:VEVENT
BEGIN:VEVENT
DTSTART;TZID=America/Los_Angeles:20181126T120000
DTEND;TZID=America/Los_Angeles:20181126T130000
DTSTAMP:20260425T033521
CREATED:20181103T055725Z
LAST-MODIFIED:20181127T070630Z
UID:16428-1543233600-1543237200@heritage.edu
SUMMARY:Mustache Movember Tabling
DESCRIPTION:
URL:https://heritage.edu/event/mustache-movember-tabling-3/
LOCATION:WA
CATEGORIES:Campus,Greek Life,Student Life
ATTACH;FMTTYPE=image/jpeg:https://heritage.edu/wp-content/uploads/2018/11/EV_1118Movemberlogo.jpg
ORGANIZER;CN="Sigma Lambda Beta":MAILTO:OchoaS@heritage.edu
END:VEVENT
BEGIN:VEVENT
DTSTART;TZID=America/Los_Angeles:20181127T120000
DTEND;TZID=America/Los_Angeles:20181127T130000
DTSTAMP:20260425T033521
CREATED:20181101T062350Z
LAST-MODIFIED:20181128T075611Z
UID:16308-1543320000-1543323600@heritage.edu
SUMMARY:Mustache Movember
DESCRIPTION:
URL:https://heritage.edu/event/mustache-movember/
LOCATION:Patricia Wade Temple Conference Room\, 3240 Fort Rd\, Toppenish\, WA\, 98948\, United States
CATEGORIES:Campus,Greek Life,Student Life
ATTACH;FMTTYPE=image/jpeg:https://heritage.edu/wp-content/uploads/2018/10/EV_112718MustacheMovemberlogo.jpg
ORGANIZER;CN="Sigma Lambda Beta":MAILTO:OchoaS@heritage.edu
END:VEVENT
BEGIN:VEVENT
DTSTART;TZID=America/Los_Angeles:20181127T160000
DTEND;TZID=America/Los_Angeles:20181127T170000
DTSTAMP:20260425T033521
CREATED:20180927T051052Z
LAST-MODIFIED:20180927T051052Z
UID:15628-1543334400-1543338000@heritage.edu
SUMMARY:GAO IG Open Study Tables
DESCRIPTION:
URL:https://heritage.edu/event/gao-ig-open-study-tables-9/
LOCATION:Barnhill Fireside Room\, 3240 Fort Rd\, Toppenish\, WA\, 98948\, United States
CATEGORIES:Greek Life,Student Life
ORGANIZER;CN="Gamma Alpha Omega Sorority":MAILTO:jimemezi2@heritage.edu
END:VEVENT
BEGIN:VEVENT
DTSTART;TZID=America/Los_Angeles:20181127T160000
DTEND;TZID=America/Los_Angeles:20181127T200000
DTSTAMP:20260425T033521
CREATED:20181026T225350Z
LAST-MODIFIED:20181026T225350Z
UID:16192-1543334400-1543348800@heritage.edu
SUMMARY:Lambda Theta Alpha Open Study Tables
DESCRIPTION:
URL:https://heritage.edu/event/lambda-theta-alpha-open-study-tables-17/
LOCATION:Donald K. North Library\, 3240 Fort Road\, Toppenish\, WA\, 98948\, United States
CATEGORIES:Greek Life
ORGANIZER;CN="Lambda Theta Alpha":MAILTO:lta.cp.zi@gmail.com
END:VEVENT
BEGIN:VEVENT
DTSTART;TZID=America/Los_Angeles:20181129T170000
DTEND;TZID=America/Los_Angeles:20181129T210000
DTSTAMP:20260425T033521
CREATED:20181026T225431Z
LAST-MODIFIED:20181026T225431Z
UID:16195-1543510800-1543525200@heritage.edu
SUMMARY:Lambda Theta Alpha Open Study Tables
DESCRIPTION:
URL:https://heritage.edu/event/lambda-theta-alpha-open-study-tables-18/
LOCATION:Donald K. North Library\, 3240 Fort Road\, Toppenish\, WA\, 98948\, United States
CATEGORIES:Greek Life
ORGANIZER;CN="Lambda Theta Alpha":MAILTO:lta.cp.zi@gmail.com
END:VEVENT
BEGIN:VEVENT
DTSTART;TZID=America/Los_Angeles:20181130T190000
DTEND;TZID=America/Los_Angeles:20181130T230000
DTSTAMP:20260425T033521
CREATED:20181128T014830Z
LAST-MODIFIED:20181204T033656Z
UID:16826-1543604400-1543618800@heritage.edu
SUMMARY:Lovely Knight Gala
DESCRIPTION:
URL:https://heritage.edu/event/lovely-knight-gala/
LOCATION:Smith Family Hall\, 3240 Fort Rd\, Toppenish\, WA\, 98948\, United States
CATEGORIES:Greek Life
ATTACH;FMTTYPE=image/jpeg:https://heritage.edu/wp-content/uploads/2018/11/EV_113018LovelyKnightlogo.jpg
ORGANIZER;CN="Omega Delta Phi":MAILTO:CabreraJ1@Heritage.edu
END:VEVENT
BEGIN:VEVENT
DTSTART;TZID=America/Los_Angeles:20190111T200700
DTEND;TZID=America/Los_Angeles:20190111T220000
DTSTAMP:20260425T033521
CREATED:20190109T033151Z
LAST-MODIFIED:20190110T074429Z
UID:17365-1547237220-1547244000@heritage.edu
SUMMARY:KDChi Yard Show
DESCRIPTION:
URL:https://heritage.edu/event/2019-yard-show/
LOCATION:Smith Family Hall\, 3240 Fort Rd\, Toppenish\, WA\, 98948\, United States
CATEGORIES:Greek Life,Student Life
ATTACH;FMTTYPE=image/jpeg:https://heritage.edu/wp-content/uploads/Events/EV_011119KappaDeltaChi_YardShow.jpg
ORGANIZER;CN="Kappa Delta Chi VP":MAILTO:betasigma.vp@kappadeltachi.org
END:VEVENT
BEGIN:VEVENT
DTSTART;TZID=America/Los_Angeles:20190114T120000
DTEND;TZID=America/Los_Angeles:20190114T130000
DTSTAMP:20260425T033521
CREATED:20190109T034721Z
LAST-MODIFIED:20190109T035011Z
UID:17373-1547467200-1547470800@heritage.edu
SUMMARY:KDChi Informational
DESCRIPTION:
URL:https://heritage.edu/event/kdchi-informational/
LOCATION:Patricia Wade Temple Conference Room\, 3240 Fort Rd\, Toppenish\, WA\, 98948\, United States
CATEGORIES:Greek Life,Student Life
ORGANIZER;CN="Kappa Delta Chi":MAILTO:betasigma.expansion@kappadeltachi.org
END:VEVENT
BEGIN:VEVENT
DTSTART;TZID=UTC:20190114T120000
DTEND;TZID=UTC:20190114T130000
DTSTAMP:20260425T033521
CREATED:20190109T054854Z
LAST-MODIFIED:20190109T060959Z
UID:17396-1547467200-1547470800@heritage.edu
SUMMARY:Omega Delta Phi Tabling
DESCRIPTION:
URL:https://heritage.edu/event/omega-delta-phi-tabling/
LOCATION:Pinnell Family Foyer\, 3240 Fort Road
CATEGORIES:Greek Life,Student Life
ATTACH;FMTTYPE=image/png:https://heritage.edu/wp-content/uploads/HumanResources/ODPHIRecruitSpring2019-e1546983746751.png
ORGANIZER;CN="Omega Delta Phi":MAILTO:CabreraJ1@Heritage.edu
END:VEVENT
END:VCALENDAR