BEGIN:VCALENDAR
VERSION:2.0
PRODID:-//Heritage University - ECPv6.15.20//NONSGML v1.0//EN
CALSCALE:GREGORIAN
METHOD:PUBLISH
X-ORIGINAL-URL:https://heritage.edu
X-WR-CALDESC:Events for Heritage University
REFRESH-INTERVAL;VALUE=DURATION:PT1H
X-Robots-Tag:noindex
X-PUBLISHED-TTL:PT1H
BEGIN:VTIMEZONE
TZID:America/Los_Angeles
BEGIN:DAYLIGHT
TZOFFSETFROM:-0800
TZOFFSETTO:-0700
TZNAME:PDT
DTSTART:20220313T100000
END:DAYLIGHT
BEGIN:STANDARD
TZOFFSETFROM:-0700
TZOFFSETTO:-0800
TZNAME:PST
DTSTART:20221106T090000
END:STANDARD
BEGIN:DAYLIGHT
TZOFFSETFROM:-0800
TZOFFSETTO:-0700
TZNAME:PDT
DTSTART:20230312T100000
END:DAYLIGHT
BEGIN:STANDARD
TZOFFSETFROM:-0700
TZOFFSETTO:-0800
TZNAME:PST
DTSTART:20231105T090000
END:STANDARD
BEGIN:DAYLIGHT
TZOFFSETFROM:-0800
TZOFFSETTO:-0700
TZNAME:PDT
DTSTART:20240310T100000
END:DAYLIGHT
BEGIN:STANDARD
TZOFFSETFROM:-0700
TZOFFSETTO:-0800
TZNAME:PST
DTSTART:20241103T090000
END:STANDARD
BEGIN:DAYLIGHT
TZOFFSETFROM:-0800
TZOFFSETTO:-0700
TZNAME:PDT
DTSTART:20250309T100000
END:DAYLIGHT
BEGIN:STANDARD
TZOFFSETFROM:-0700
TZOFFSETTO:-0800
TZNAME:PST
DTSTART:20251102T090000
END:STANDARD
END:VTIMEZONE
BEGIN:VEVENT
DTSTART;VALUE=DATE:20231201
DTEND;VALUE=DATE:20231202
DTSTAMP:20260424T102523
CREATED:20230922T210509Z
LAST-MODIFIED:20231205T002657Z
UID:37456-1701388800-1701475199@heritage.edu
SUMMARY:Classes End (Undergraduate)
DESCRIPTION:
URL:https://heritage.edu/event/classes-end-undergraduate-4/
CATEGORIES:Campus,Community
ATTACH;FMTTYPE=image/png:https://heritage.edu/wp-content/uploads/2018/05/tn-e1541606996720.png
END:VEVENT
BEGIN:VEVENT
DTSTART;TZID=America/Los_Angeles:20231204T080000
DTEND;TZID=America/Los_Angeles:20231204T170000
DTSTAMP:20260424T102523
CREATED:20231205T005702Z
LAST-MODIFIED:20240129T183804Z
UID:38478-1701676800-1701709200@heritage.edu
SUMMARY:Classes Begin (Undergraduate)
DESCRIPTION:
URL:https://heritage.edu/event/classes-begin-undergraduate-3/
LOCATION:Heritage University
CATEGORIES:Campus,Community
ATTACH;FMTTYPE=image/png:https://heritage.edu/wp-content/uploads/2018/05/tn-e1541606996720.png
END:VEVENT
BEGIN:VEVENT
DTSTART;TZID=America/Los_Angeles:20231204T080000
DTEND;TZID=America/Los_Angeles:20231208T170000
DTSTAMP:20260424T102523
CREATED:20231205T003047Z
LAST-MODIFIED:20240129T183739Z
UID:38465-1701676800-1702054800@heritage.edu
SUMMARY:Finals Week
DESCRIPTION:
URL:https://heritage.edu/event/finals-week-2/
LOCATION:Heritage University
CATEGORIES:Campus
ATTACH;FMTTYPE=image/jpeg:https://heritage.edu/wp-content/uploads/2018/11/students-studying-2.jpg
END:VEVENT
BEGIN:VEVENT
DTSTART;TZID=America/Los_Angeles:20231221T080000
DTEND;TZID=America/Los_Angeles:20240101T170000
DTSTAMP:20260424T102523
CREATED:20230922T210644Z
LAST-MODIFIED:20240129T183715Z
UID:37459-1703145600-1704128400@heritage.edu
SUMMARY:Winter Vacation (Campus Closed)
DESCRIPTION:
URL:https://heritage.edu/event/winter-vacation-campus-closed-2/
CATEGORIES:Campus,Community
ATTACH;FMTTYPE=image/png:https://heritage.edu/wp-content/uploads/2018/05/tn-e1541606996720.png
END:VEVENT
END:VCALENDAR